BEGIN:VCALENDAR
VERSION:2.0
PRODID:-//Technica Editorial Services - ECPv6.15.18//NONSGML v1.0//EN
CALSCALE:GREGORIAN
METHOD:PUBLISH
X-WR-CALNAME:Technica Editorial Services
X-ORIGINAL-URL:https://technicaeditorial.com
X-WR-CALDESC:Events for Technica Editorial Services
REFRESH-INTERVAL;VALUE=DURATION:PT1H
X-Robots-Tag:noindex
X-PUBLISHED-TTL:PT1H
BEGIN:VTIMEZONE
TZID:America/New_York
BEGIN:DAYLIGHT
TZOFFSETFROM:-0500
TZOFFSETTO:-0400
TZNAME:EDT
DTSTART:20220313T070000
END:DAYLIGHT
BEGIN:STANDARD
TZOFFSETFROM:-0400
TZOFFSETTO:-0500
TZNAME:EST
DTSTART:20221106T060000
END:STANDARD
BEGIN:DAYLIGHT
TZOFFSETFROM:-0500
TZOFFSETTO:-0400
TZNAME:EDT
DTSTART:20230312T070000
END:DAYLIGHT
BEGIN:STANDARD
TZOFFSETFROM:-0400
TZOFFSETTO:-0500
TZNAME:EST
DTSTART:20231105T060000
END:STANDARD
BEGIN:DAYLIGHT
TZOFFSETFROM:-0500
TZOFFSETTO:-0400
TZNAME:EDT
DTSTART:20240310T070000
END:DAYLIGHT
BEGIN:STANDARD
TZOFFSETFROM:-0400
TZOFFSETTO:-0500
TZNAME:EST
DTSTART:20241103T060000
END:STANDARD
END:VTIMEZONE
BEGIN:VEVENT
DTSTART;VALUE=DATE:20230531
DTEND;VALUE=DATE:20230601
DTSTAMP:20260425T185411
CREATED:20230221T155503Z
LAST-MODIFIED:20230221T155517Z
UID:5587-1685491200-1685577599@technicaeditorial.com
SUMMARY:Society of Scholarly Publishing
DESCRIPTION:May 31 – June 2 \n“The pace of change in our industry continues unabated\, with seismic shifts in areas such as the dissemination of research\, business models\, and the nature of the workplace.  And yet\, while pressure for change has become the new normal\, fundamental change has proved more elusive. We invite you to join us in highlighting the Trust and Transparency issues that underlie many of the challenges we face and exploring what it takes to create a more meaningful Transformation in scholarly publishing. \nOur aim is to present an in-person meeting in Portland with a virtual attendance option that includes a mix of live and on-demand content.  That said\, the health and safety of our attendees is a prime concern\, and we will monitor and be ready to modify plans as needed. Registration will open in February. \nAs always\, the SSP community continues to focus on bringing together academics\, funders\, librarians\, publishers\, service providers\, technologists\, and countless others with a communal interest and stake in disseminating scholarly information. We look to the 45th Annual Meeting as an opportunity to continue this tradition and welcome all colleagues and community stakeholders\, old and new.” – text courtesy of sspnet.org
URL:https://technicaeditorial.com/event/society-of-scholarly-publishing/
LOCATION:Oregon Convention Center\, 375 NE Holladay St\, Portland\, 972332\, United States
ATTACH;FMTTYPE=image/png:https://technicaeditorial.com/wordpress/wp-content/uploads/2023/02/Society-of-Scholarly-Publishing.png
END:VEVENT
END:VCALENDAR