BEGIN:VCALENDAR
VERSION:2.0
PRODID:-//Technica Editorial Services - ECPv6.15.18//NONSGML v1.0//EN
CALSCALE:GREGORIAN
METHOD:PUBLISH
X-ORIGINAL-URL:https://technicaeditorial.com
X-WR-CALDESC:Events for Technica Editorial Services
REFRESH-INTERVAL;VALUE=DURATION:PT1H
X-Robots-Tag:noindex
X-PUBLISHED-TTL:PT1H
BEGIN:VTIMEZONE
TZID:America/New_York
BEGIN:DAYLIGHT
TZOFFSETFROM:-0500
TZOFFSETTO:-0400
TZNAME:EDT
DTSTART:20220313T070000
END:DAYLIGHT
BEGIN:STANDARD
TZOFFSETFROM:-0400
TZOFFSETTO:-0500
TZNAME:EST
DTSTART:20221106T060000
END:STANDARD
BEGIN:DAYLIGHT
TZOFFSETFROM:-0500
TZOFFSETTO:-0400
TZNAME:EDT
DTSTART:20230312T070000
END:DAYLIGHT
BEGIN:STANDARD
TZOFFSETFROM:-0400
TZOFFSETTO:-0500
TZNAME:EST
DTSTART:20231105T060000
END:STANDARD
BEGIN:DAYLIGHT
TZOFFSETFROM:-0500
TZOFFSETTO:-0400
TZNAME:EDT
DTSTART:20240310T070000
END:DAYLIGHT
BEGIN:STANDARD
TZOFFSETFROM:-0400
TZOFFSETTO:-0500
TZNAME:EST
DTSTART:20241103T060000
END:STANDARD
END:VTIMEZONE
BEGIN:VEVENT
DTSTART;TZID=America/New_York:20230718T000000
DTEND;TZID=America/New_York:20230720T000000
DTSTAMP:20260425T154130
CREATED:20230606T175559Z
LAST-MODIFIED:20230606T175559Z
UID:5886-1689638400-1689811200@technicaeditorial.com
SUMMARY:2023 ISMTE Global Event
DESCRIPTION:July 18-20 \nAspire 2023: Leadership\, Accountability\, and Growth\nVirtual Event by the International Society of Managing & Technical Editors (ISMTE) \n“ISMTE is a community of editors around the world\, and ISMTE helps you make the most out of your job and professional life\, with clear\, trusted information and fewer problems along the way. No matter what this job might throw at you\, ISMTE keeps you ready\, productive\, and engaged. Join us for this exciting virtual event with more than 24 live sessions over three days in multiple time zones\, and you’ll be engaging with more than 250+ editorial professionals from more than 28 countries around the world!\nAll participants will have access to the event platform and the session recordings after the live event.” – Courtesy of https://www.ismte.org/event/2023GlobalEvent \n 
URL:https://technicaeditorial.com/event/2023-ismte-2023/
LOCATION:Online Event
ATTACH;FMTTYPE=image/png:https://technicaeditorial.com/wordpress/wp-content/uploads/2022/07/ISMTE_logo.png
END:VEVENT
END:VCALENDAR