BEGIN:VCALENDAR
VERSION:2.0
PRODID:-//Technica Editorial Services - ECPv6.15.18//NONSGML v1.0//EN
CALSCALE:GREGORIAN
METHOD:PUBLISH
X-ORIGINAL-URL:https://technicaeditorial.com
X-WR-CALDESC:Events for Technica Editorial Services
REFRESH-INTERVAL;VALUE=DURATION:PT1H
X-Robots-Tag:noindex
X-PUBLISHED-TTL:PT1H
BEGIN:VTIMEZONE
TZID:America/New_York
BEGIN:DAYLIGHT
TZOFFSETFROM:-0500
TZOFFSETTO:-0400
TZNAME:EDT
DTSTART:20230312T070000
END:DAYLIGHT
BEGIN:STANDARD
TZOFFSETFROM:-0400
TZOFFSETTO:-0500
TZNAME:EST
DTSTART:20231105T060000
END:STANDARD
BEGIN:DAYLIGHT
TZOFFSETFROM:-0500
TZOFFSETTO:-0400
TZNAME:EDT
DTSTART:20240310T070000
END:DAYLIGHT
BEGIN:STANDARD
TZOFFSETFROM:-0400
TZOFFSETTO:-0500
TZNAME:EST
DTSTART:20241103T060000
END:STANDARD
BEGIN:DAYLIGHT
TZOFFSETFROM:-0500
TZOFFSETTO:-0400
TZNAME:EDT
DTSTART:20250309T070000
END:DAYLIGHT
BEGIN:STANDARD
TZOFFSETFROM:-0400
TZOFFSETTO:-0500
TZNAME:EST
DTSTART:20251102T060000
END:STANDARD
END:VTIMEZONE
BEGIN:VEVENT
DTSTART;VALUE=DATE:20240425
DTEND;VALUE=DATE:20240426
DTSTAMP:20260424T221626
CREATED:20240306T180426Z
LAST-MODIFIED:20240306T180426Z
UID:6856-1714003200-1714089599@technicaeditorial.com
SUMMARY:IBPA Publishing University 2024
DESCRIPTION:If you’re headed to the IBPAs Publishing University this year\, be sure to visit the Technica booth and say Hello. This event is a gathering of independent publishers\, hybrid publishers\, author publishers (aka self-published authors)\, university presses\, and association presses interested in advancing their book publishing know-how.  Our colleagues\, Amanda Gawthorpe and Kayci Wyatt\, will be leading the session\, “Finding and Managing Your Team.” Don’t miss it!
URL:https://technicaeditorial.com/event/ibpa-publishing-university-2024/
LOCATION:Hilton Denver City Center\, 1701 California Street\, Denver\, CO\, 80202\, United States
ATTACH;FMTTYPE=image/webp:https://technicaeditorial.com/wordpress/wp-content/uploads/2024/03/IBPA2024.webp
END:VEVENT
END:VCALENDAR