BEGIN:VCALENDAR
VERSION:2.0
PRODID:-//Technica Editorial Services - ECPv6.15.18//NONSGML v1.0//EN
CALSCALE:GREGORIAN
METHOD:PUBLISH
X-ORIGINAL-URL:https://technicaeditorial.com
X-WR-CALDESC:Events for Technica Editorial Services
REFRESH-INTERVAL;VALUE=DURATION:PT1H
X-Robots-Tag:noindex
X-PUBLISHED-TTL:PT1H
BEGIN:VTIMEZONE
TZID:America/New_York
BEGIN:DAYLIGHT
TZOFFSETFROM:-0500
TZOFFSETTO:-0400
TZNAME:EDT
DTSTART:20240310T070000
END:DAYLIGHT
BEGIN:STANDARD
TZOFFSETFROM:-0400
TZOFFSETTO:-0500
TZNAME:EST
DTSTART:20241103T060000
END:STANDARD
BEGIN:DAYLIGHT
TZOFFSETFROM:-0500
TZOFFSETTO:-0400
TZNAME:EDT
DTSTART:20250309T070000
END:DAYLIGHT
BEGIN:STANDARD
TZOFFSETFROM:-0400
TZOFFSETTO:-0500
TZNAME:EST
DTSTART:20251102T060000
END:STANDARD
BEGIN:DAYLIGHT
TZOFFSETFROM:-0500
TZOFFSETTO:-0400
TZNAME:EDT
DTSTART:20260308T070000
END:DAYLIGHT
BEGIN:STANDARD
TZOFFSETFROM:-0400
TZOFFSETTO:-0500
TZNAME:EST
DTSTART:20261101T060000
END:STANDARD
END:VTIMEZONE
BEGIN:VEVENT
DTSTART;VALUE=DATE:20250503
DTEND;VALUE=DATE:20250507
DTSTAMP:20260423T201841
CREATED:20250424T114244Z
LAST-MODIFIED:20250424T114310Z
UID:7756-1746230400-1746575999@technicaeditorial.com
SUMMARY:2025 CSE Annual Meeting
DESCRIPTION:We are excited to announce our participation in the Council of Science Editors 2025 Annual Meeting. Visit us at Table 3 to learn more about our services\, which include expert editing\, peer review and editorial management support\, PDF accessibility\, print and digital deliverables\, and more. We look forward to connecting with you!
URL:https://technicaeditorial.com/event/2025-cse-annual-meeting/
LOCATION:Renaissance Minneapolis Hotel\, 225 3rd Avenue South\, Minneapolis\, MN\, 55401\, United States
CATEGORIES:CSE
ATTACH;FMTTYPE=image/jpeg:https://technicaeditorial.com/wordpress/wp-content/uploads/2025/04/CSE-Meeting.jpg
END:VEVENT
BEGIN:VEVENT
DTSTART;VALUE=DATE:20250515
DTEND;VALUE=DATE:20250518
DTSTAMP:20260423T201841
CREATED:20250424T114737Z
LAST-MODIFIED:20250424T114737Z
UID:7760-1747267200-1747526399@technicaeditorial.com
SUMMARY:IBPA Publishing University 2025
DESCRIPTION:The Independent Book Publishers Association’s Publishing University 2025 is the leading educational event for independent book publishers. We will have a booth\, so please stop by to learn how we can support you at any stage of your book publishing journey.
URL:https://technicaeditorial.com/event/ibpa-publishing-university-2025/
LOCATION:The Intercontinental St. Paul Riverfront\, 11 East Kellogg Boulevard\, St. Paul\, MN\, 55101\, United States
CATEGORIES:IBPA
ATTACH;FMTTYPE=image/png:https://technicaeditorial.com/wordpress/wp-content/uploads/2022/04/ibpa_logo.png
END:VEVENT
BEGIN:VEVENT
DTSTART;VALUE=DATE:20250528
DTEND;VALUE=DATE:20250531
DTSTAMP:20260423T201841
CREATED:20250424T115146Z
LAST-MODIFIED:20250424T115146Z
UID:7763-1748390400-1748649599@technicaeditorial.com
SUMMARY:SSP Annual Meeting
DESCRIPTION:Reimagining the Future of Scholarly Publishing at the Intersection of Value and Values \nWe are excited to be exhibiting at this year’s Society of Scholarly Annual Meeting. We invite you to stop by Table 313 and connect with us! As an independent publishing services company\, we take a hands-on approach and offer a wide range of editorial and production services along with our expertise.
URL:https://technicaeditorial.com/event/ssp-annual-meeting/
LOCATION:Hilton Baltimore\, Baltimore\, MD\, United States
CATEGORIES:SSP
ATTACH;FMTTYPE=image/png:https://technicaeditorial.com/wordpress/wp-content/uploads/2023/02/Society-of-Scholarly-Publishing.png
END:VEVENT
END:VCALENDAR