BEGIN:VCALENDAR
VERSION:2.0
PRODID:-//Technica Editorial Services - ECPv6.15.18//NONSGML v1.0//EN
CALSCALE:GREGORIAN
METHOD:PUBLISH
X-WR-CALNAME:Technica Editorial Services
X-ORIGINAL-URL:https://technicaeditorial.com
X-WR-CALDESC:Events for Technica Editorial Services
REFRESH-INTERVAL;VALUE=DURATION:PT1H
X-Robots-Tag:noindex
X-PUBLISHED-TTL:PT1H
BEGIN:VTIMEZONE
TZID:America/New_York
BEGIN:DAYLIGHT
TZOFFSETFROM:-0500
TZOFFSETTO:-0400
TZNAME:EDT
DTSTART:20220313T070000
END:DAYLIGHT
BEGIN:STANDARD
TZOFFSETFROM:-0400
TZOFFSETTO:-0500
TZNAME:EST
DTSTART:20221106T060000
END:STANDARD
BEGIN:DAYLIGHT
TZOFFSETFROM:-0500
TZOFFSETTO:-0400
TZNAME:EDT
DTSTART:20230312T070000
END:DAYLIGHT
BEGIN:STANDARD
TZOFFSETFROM:-0400
TZOFFSETTO:-0500
TZNAME:EST
DTSTART:20231105T060000
END:STANDARD
BEGIN:DAYLIGHT
TZOFFSETFROM:-0500
TZOFFSETTO:-0400
TZNAME:EDT
DTSTART:20240310T070000
END:DAYLIGHT
BEGIN:STANDARD
TZOFFSETFROM:-0400
TZOFFSETTO:-0500
TZNAME:EST
DTSTART:20241103T060000
END:STANDARD
END:VTIMEZONE
BEGIN:VEVENT
DTSTART;VALUE=DATE:20230504
DTEND;VALUE=DATE:20230505
DTSTAMP:20260424T093935
CREATED:20230221T154915Z
LAST-MODIFIED:20230221T154915Z
UID:5583-1683158400-1683244799@technicaeditorial.com
SUMMARY:IBPA Publishing University
DESCRIPTION:May 4 – 6 \n“IBPA PUBLISHING UNIVERSITY (#PubU2023) is where hundreds of independent publishers and industry partners gather to exchange knowledge\, resources\, strategies\, solutions\, and more.\nWHO SHOULD ATTEND? Independent publishers\, hybrid publishers\, author-publishers (aka self-published authors)\, university presses\, and association presses interested in advancing their book publishing know-how. \nIBPA Publishing University 2023 will take place at the Coronado Island Marriott Resort & Spa from May 4-6\, 2023. This idyllic retreat just across the bridge from San Diego features views of the San Diego skyline and Coronado Bridge and is ideally situated to provide easy access to Coronado Beach and San Diego attractions. As a guest of the hotel\, you’ll recharge in spacious\, redesigned hotel rooms\, suites\, and private cottages while you attend the #1 conference for independent book publishers in the United States.” – Text courtesy of https://www.publishinguniversity.org/
URL:https://technicaeditorial.com/event/ibpa-publishing-university/
LOCATION:Coronado Island Resort & Spa\, 2000 2nd Street\, Coronado\, CA\, 92118\, United States
ATTACH;FMTTYPE=image/png:https://technicaeditorial.com/wordpress/wp-content/uploads/2023/02/IBPA-PUBLISHING-UNIVERSITY.png
END:VEVENT
BEGIN:VEVENT
DTSTART;VALUE=DATE:20230429
DTEND;VALUE=DATE:20230430
DTSTAMP:20260424T093935
CREATED:20230221T154324Z
LAST-MODIFIED:20230221T154324Z
UID:5579-1682726400-1682812799@technicaeditorial.com
SUMMARY:2023 CSE Annual Meeting
DESCRIPTION:April 29 – May 2 \n“The Council of Science Editors (CSE) is an international membership organization for editorial professionals publishing in the sciences. Our purpose is to serve over 800 members in the scientific\, scientific publishing\, and information science communities by fostering networking\, education\, discussion\, and exchange. Our aim is to be an authoritative resource on current and emerging issues in the communication of scientific information.”
URL:https://technicaeditorial.com/event/2023-cse-annual-meeting/
LOCATION:Sheraton Centre Toronto\, 123 Queen St. W\, Toronto\, Ontario\, M5H 2M9\, Canada
ATTACH;FMTTYPE=image/webp:https://technicaeditorial.com/wordpress/wp-content/uploads/2023/02/CSE-2023_Website-banner.webp
END:VEVENT
BEGIN:VEVENT
DTSTART;VALUE=DATE:20230422
DTEND;VALUE=DATE:20230423
DTSTAMP:20260424T093935
CREATED:20230221T153838Z
LAST-MODIFIED:20230221T153838Z
UID:5574-1682121600-1682207999@technicaeditorial.com
SUMMARY:2023 Los Angeles Times Festival of Books
DESCRIPTION:April 22-23 \nThe full lineup will be announced on March 15. \n“The Los Angeles Times Book Prizes are dedicated to discovering new voices and celebrating the highest quality of writing across the spectrum of book publishing. This year’s ceremony will mark 42 years of recognizing literary achievement. The event will be hosted by Julia Turner\, Managing Editor of Arts and Entertainment\, and feature remarks by Executive Editor Kevin Merida\, and Books Editor\, Boris Kachka\, among many others. Stay tuned for more details!”
URL:https://technicaeditorial.com/event/2023-los-angeles-times-festival-of-books/
LOCATION:University Of Sourthern California\, Los Angeles\, CA\, 90007\, United States
ATTACH;FMTTYPE=image/png:https://technicaeditorial.com/wordpress/wp-content/uploads/2023/02/Los-Angeles-Times-Festival-of-Books.png
END:VEVENT
BEGIN:VEVENT
DTSTART;VALUE=DATE:20230308
DTEND;VALUE=DATE:20230309
DTSTAMP:20260424T093935
CREATED:20230221T152439Z
LAST-MODIFIED:20230221T211623Z
UID:5565-1678233600-1678319999@technicaeditorial.com
SUMMARY:2023 AWP Conference & Bookfair
DESCRIPTION:March 8-11\nTable T1826 \n“The AWP Conference & Bookfair is the annual destination for writers\, teachers\, students\, editors\, and publishers of contemporary creative writing. It includes thousands of attendees\, hundreds of events and bookfair exhibitors\, and four days of essential literary conversation and celebration. The AWP Conference & Bookfair has always been a place of connection\, reunion\, and joy\, and we are excited to see the writing community come together again in Seattle\, Washington in 2023.” \nImportant Event Dates: \n\nFebruary 9\, 2023: Deadline to submit to the #AWP23 Writer to Agent program\nFebruary 15\, 2023: Deadline to upload sponsor waivers\nFebruary 15\, 2023: Deadline to request accessibility services\nMarch 1\, 2023: Deadline to submit offsite events\nMarch 1\, 2023: Deadline to request changes to the online conference schedule\nMarch 7\, 2023: Deadline to purchase registration at the preregistration rate\nMarch 8\, 2023: Onsite registration rates begin\nMarch 8-11\, 2023: #AWP23 in Seattle\, WA and online!
URL:https://technicaeditorial.com/event/2023-awp-conference-bookfair/
LOCATION:Seattle Convention Center\, 705 Pike St\, Seattle\, WA\, 98101\, United States
ATTACH;FMTTYPE=image/png:https://technicaeditorial.com/wordpress/wp-content/uploads/2023/02/AWP23.png
ORGANIZER;CN="Association of Writers & Writing Programs":MAILTO:registration@awpwriter.org
END:VEVENT
END:VCALENDAR