BEGIN:VCALENDAR
VERSION:2.0
PRODID:-//Technica Editorial Services - ECPv6.15.18//NONSGML v1.0//EN
CALSCALE:GREGORIAN
METHOD:PUBLISH
X-WR-CALNAME:Technica Editorial Services
X-ORIGINAL-URL:https://technicaeditorial.com
X-WR-CALDESC:Events for Technica Editorial Services
REFRESH-INTERVAL;VALUE=DURATION:PT1H
X-Robots-Tag:noindex
X-PUBLISHED-TTL:PT1H
BEGIN:VTIMEZONE
TZID:America/New_York
BEGIN:DAYLIGHT
TZOFFSETFROM:-0500
TZOFFSETTO:-0400
TZNAME:EDT
DTSTART:20250309T070000
END:DAYLIGHT
BEGIN:STANDARD
TZOFFSETFROM:-0400
TZOFFSETTO:-0500
TZNAME:EST
DTSTART:20251102T060000
END:STANDARD
BEGIN:DAYLIGHT
TZOFFSETFROM:-0500
TZOFFSETTO:-0400
TZNAME:EDT
DTSTART:20260308T070000
END:DAYLIGHT
BEGIN:STANDARD
TZOFFSETFROM:-0400
TZOFFSETTO:-0500
TZNAME:EST
DTSTART:20261101T060000
END:STANDARD
BEGIN:DAYLIGHT
TZOFFSETFROM:-0500
TZOFFSETTO:-0400
TZNAME:EDT
DTSTART:20270314T070000
END:DAYLIGHT
BEGIN:STANDARD
TZOFFSETFROM:-0400
TZOFFSETTO:-0500
TZNAME:EST
DTSTART:20271107T060000
END:STANDARD
END:VTIMEZONE
BEGIN:VEVENT
DTSTART;VALUE=DATE:20260503
DTEND;VALUE=DATE:20260506
DTSTAMP:20260423T052131
CREATED:20260403T173422Z
LAST-MODIFIED:20260403T173543Z
UID:8346-1777766400-1778025599@technicaeditorial.com
SUMMARY:Council of Science Editors
DESCRIPTION:Get ready to be captivated as Nathan Taylor of Technica Editorial takes the stage as part of the panel \nMini Workshop: Launching a Journal–From Vision to Publication\nLaunching a journal sounds exciting in theory\, but how do you actually go from first idea to established publication? This practical session will appeal to attendees from organizations of all sizes\, both for-profit and non-profit\, with particular attention given to small-to-medium organizations that are deciding whether to self-publish\, partner with vendors\, or partner publish via a larger publishing organization. The session will also provide key insights for vendors working in these areas. Topics covered will include 1) defining your vision\, scope\, and goals; 2) operations and finances; 3) selecting an editorial team and building community; and 4) workflows and technology solutions.\nAttendees will be provided with a detailed checklist of key considerations to cover when planning your own journal launch\, covering technology\, finances\, staffing and editorial leadership\, and community-building.
URL:https://technicaeditorial.com/event/8346/
LOCATION:Durham Marriott City Center\, 201 Foster St\, Durham\, NC\, 27701\, United States
CATEGORIES:CSE
ATTACH;FMTTYPE=image/webp:https://technicaeditorial.com/wordpress/wp-content/uploads/2026/04/Council-Of-Science-Editors.webp
END:VEVENT
BEGIN:VEVENT
DTSTART;VALUE=DATE:20260514
DTEND;VALUE=DATE:20260517
DTSTAMP:20260423T052131
CREATED:20260403T174038Z
LAST-MODIFIED:20260403T202959Z
UID:8351-1778716800-1778975999@technicaeditorial.com
SUMMARY:IBPA Publishing University 2026
DESCRIPTION:The Leading Conference and Educational Event for Independent Book Publishers and Author-Publishers \nTogether We Are Stronger\nJoin the #1 conference that celebrates independent publishing in all its diversity! IBPA PubU welcomes all independent publishers\, hybrid publishers\, author publishers (aka self-published authors)\, university presses\, nonprofit and association presses.​ \n\n\n\n– Featuring Breakout Sessions for established publishers\,  newer publishers\, and hot topics\n– Complimentary one-on-one “Ask the Experts” consultations\n– Choice of an in-depth workshop (or IBPA Think Tank for Established Publishers) on Thursday\n– 40+ exhibitors offer solutions in printing\, design\, editing\, book marketing\, technology\, and more
URL:https://technicaeditorial.com/event/ibpa-publishing-university-2026/
LOCATION:Hyatt Regency Portland\, 375 NE Holladay St\, Portland\, OR\, 97232\, United States
CATEGORIES:IBPA
ATTACH;FMTTYPE=image/webp:https://technicaeditorial.com/wordpress/wp-content/uploads/2026/04/IBPA-2026.webp
END:VEVENT
BEGIN:VEVENT
DTSTART;VALUE=DATE:20260527
DTEND;VALUE=DATE:20260530
DTSTAMP:20260423T052131
CREATED:20260403T174549Z
LAST-MODIFIED:20260403T203111Z
UID:8355-1779840000-1780099199@technicaeditorial.com
SUMMARY:Society for Scholarly Publishing 48th Annual Meeting
DESCRIPTION:Technica Editorial and Scholastica team up for an Industry Breakout Session:\nStaying Independent Through Collaboration: The Value of Publishing Vendor Partnerships\n“With cuts to US funding in medical and scientific research; distrust in academia\, once-revered institutions\, and expertise in general; shrinking academic library budgets; huge growth in proposals and publications; the effects of AI on content creation; continuing strains on the peer review process; and an uncertain (to put it mildly) political environment\, our industry is in the midst of serious upheaval. \nWhat can we do as a community to keep the faith and stand our ground in these unsettled times? How can we adhere to our core values while adapting to the ever-changing landscape? There are many unknowns\, but one thing we do know is that by publishing and disseminating critical information and spreading knowledge\, we serve an essential function to humanity at large. \nThe 2026 SSP Annual Meeting invites us to navigate a paradox: how to adapt and innovate in turbulent times while staying true to the mission of integrity at the heart of scholarly communication. What are the practical effects on content creation\, workflows\, and business models\, as well as our relationships with authors\, editors\, and reviewers? Let’s gather as a community to discuss the tactics and strategies needed to face these challenges successfully.” – Courtesy sspnet.org
URL:https://technicaeditorial.com/event/society-for-scholarly-publishing-48th-annual-meeting/
LOCATION:Gaylord Pacific Resort & Convention Center\, Chula Vista\, CA\, United States
CATEGORIES:SSP
ATTACH;FMTTYPE=image/png:https://technicaeditorial.com/wordpress/wp-content/uploads/2023/02/Society-of-Scholarly-Publishing.png
ORGANIZER;CN="Society for Scholarly Publishing":MAILTO:info@sspnet.org
END:VEVENT
END:VCALENDAR