BEGIN:VCALENDAR
VERSION:2.0
PRODID:-//Technica Editorial Services - ECPv6.15.18//NONSGML v1.0//EN
CALSCALE:GREGORIAN
METHOD:PUBLISH
X-WR-CALNAME:Technica Editorial Services
X-ORIGINAL-URL:https://technicaeditorial.com
X-WR-CALDESC:Events for Technica Editorial Services
REFRESH-INTERVAL;VALUE=DURATION:PT1H
X-Robots-Tag:noindex
X-PUBLISHED-TTL:PT1H
BEGIN:VTIMEZONE
TZID:America/New_York
BEGIN:DAYLIGHT
TZOFFSETFROM:-0500
TZOFFSETTO:-0400
TZNAME:EDT
DTSTART:20240310T070000
END:DAYLIGHT
BEGIN:STANDARD
TZOFFSETFROM:-0400
TZOFFSETTO:-0500
TZNAME:EST
DTSTART:20241103T060000
END:STANDARD
BEGIN:DAYLIGHT
TZOFFSETFROM:-0500
TZOFFSETTO:-0400
TZNAME:EDT
DTSTART:20250309T070000
END:DAYLIGHT
BEGIN:STANDARD
TZOFFSETFROM:-0400
TZOFFSETTO:-0500
TZNAME:EST
DTSTART:20251102T060000
END:STANDARD
BEGIN:DAYLIGHT
TZOFFSETFROM:-0500
TZOFFSETTO:-0400
TZNAME:EDT
DTSTART:20260308T070000
END:DAYLIGHT
BEGIN:STANDARD
TZOFFSETFROM:-0400
TZOFFSETTO:-0500
TZNAME:EST
DTSTART:20261101T060000
END:STANDARD
END:VTIMEZONE
BEGIN:VEVENT
DTSTART;VALUE=DATE:20250805
DTEND;VALUE=DATE:20250809
DTSTAMP:20260423T070225
CREATED:20250715T234201Z
LAST-MODIFIED:20250715T234201Z
UID:7968-1754352000-1754697599@technicaeditorial.com
SUMMARY:ISMTE 2025 Annual Conference - Editors Without Borders: Breaking Silos in a Technological World
DESCRIPTION:ISMTE 2025 Annual Conference – Editors Without Borders: Breaking Silos in a Technological World\n \n \nAugust 5-8\, 2025\nMontréal\, Québec\n\n Make sure not to miss:\n\nPresentation: Vendor Breakout – Scholastica: Improving RFP Processes and Outcomes:\nFrom the Vendor Perspective (https://ismtena2025.eventify.io/widget2/sessions?redirection=false&sessioncolor=true)\n\n\n\n\n\n\n\nISMTE 2025 North American Annual Conference\nThe EnerChi format combines principles of the ancient arts of tai chi and qigong and involves a series of movements performed in a slow\, focused\, flowing manner with deep breathing. This is a moving-meditation exercise set to fantastic music to release stress\, build resilience\, and increase focus. There is no sequence to memorize\, and it is a “follow me” format\, so everyone can participate and …\nismtena2025.eventify.io\n\n\n\n\n\n\n\nPresenters: Brian Cody (Scholastica) and Nikki Lazenby (Technica Editorial Services)\nThursday\, August 7th\, 2025 at 2:30 PM – 3:15 PM\n\n 
URL:https://technicaeditorial.com/event/ismte-2025-annual-conference-editors-without-borders-breaking-silos-in-a-technological-world/
LOCATION:Hotel Bonaventure\, 900 DE LA GAUCHETIÈRE WEST\, MONTREAL\, QUEBEC\, H5A 1E4\, Canada
CATEGORIES:ISMTE
ATTACH;FMTTYPE=image/png:https://technicaeditorial.com/wordpress/wp-content/uploads/2022/07/ISMTE_logo.png
END:VEVENT
END:VCALENDAR