BEGIN:VCALENDAR
VERSION:2.0
PRODID:-//Technica Editorial Services - ECPv6.15.18//NONSGML v1.0//EN
CALSCALE:GREGORIAN
METHOD:PUBLISH
X-ORIGINAL-URL:https://technicaeditorial.com
X-WR-CALDESC:Events for Technica Editorial Services
REFRESH-INTERVAL;VALUE=DURATION:PT1H
X-Robots-Tag:noindex
X-PUBLISHED-TTL:PT1H
BEGIN:VTIMEZONE
TZID:America/New_York
BEGIN:DAYLIGHT
TZOFFSETFROM:-0500
TZOFFSETTO:-0400
TZNAME:EDT
DTSTART:20230312T070000
END:DAYLIGHT
BEGIN:STANDARD
TZOFFSETFROM:-0400
TZOFFSETTO:-0500
TZNAME:EST
DTSTART:20231105T060000
END:STANDARD
BEGIN:DAYLIGHT
TZOFFSETFROM:-0500
TZOFFSETTO:-0400
TZNAME:EDT
DTSTART:20240310T070000
END:DAYLIGHT
BEGIN:STANDARD
TZOFFSETFROM:-0400
TZOFFSETTO:-0500
TZNAME:EST
DTSTART:20241103T060000
END:STANDARD
BEGIN:DAYLIGHT
TZOFFSETFROM:-0500
TZOFFSETTO:-0400
TZNAME:EDT
DTSTART:20250309T070000
END:DAYLIGHT
BEGIN:STANDARD
TZOFFSETFROM:-0400
TZOFFSETTO:-0500
TZNAME:EST
DTSTART:20251102T060000
END:STANDARD
END:VTIMEZONE
BEGIN:VEVENT
DTSTART;VALUE=DATE:20241111
DTEND;VALUE=DATE:20241116
DTSTAMP:20260423T070312
CREATED:20241014T205856Z
LAST-MODIFIED:20241014T205924Z
UID:7352-1731283200-1731715199@technicaeditorial.com
SUMMARY:Author Nation 2024
DESCRIPTION:Dive into the heart of the golden age of content creation at Author Nation 2024! We’re dedicated to fostering meaningful connections among authors\, industry luminaries\, and avid readers. Don’t miss the chance to explore our range of services at our booth. Technica has been empowering authors since 1989\, and we can’t wait to welcome you.
URL:https://technicaeditorial.com/event/author-nation-2024/
LOCATION:Horseshoe Las Vegas Events Center\, Las Vegas\, NV
CATEGORIES:Author Nation
ATTACH;FMTTYPE=image/jpeg:https://technicaeditorial.com/wordpress/wp-content/uploads/2024/10/AuthorNationImage.jpg
END:VEVENT
END:VCALENDAR